BEGIN:VCALENDAR
VERSION:2.0
PRODID:-//Goss Associates - ECPv6.15.17.1//NONSGML v1.0//EN
CALSCALE:GREGORIAN
METHOD:PUBLISH
X-ORIGINAL-URL:https://gossimmigration.com
X-WR-CALDESC:Events for Goss Associates
REFRESH-INTERVAL;VALUE=DURATION:PT1H
X-Robots-Tag:noindex
X-PUBLISHED-TTL:PT1H
BEGIN:VTIMEZONE
TZID:America/New_York
BEGIN:DAYLIGHT
TZOFFSETFROM:-0500
TZOFFSETTO:-0400
TZNAME:EDT
DTSTART:20240310T070000
END:DAYLIGHT
BEGIN:STANDARD
TZOFFSETFROM:-0400
TZOFFSETTO:-0500
TZNAME:EST
DTSTART:20241103T060000
END:STANDARD
BEGIN:DAYLIGHT
TZOFFSETFROM:-0500
TZOFFSETTO:-0400
TZNAME:EDT
DTSTART:20250309T070000
END:DAYLIGHT
BEGIN:STANDARD
TZOFFSETFROM:-0400
TZOFFSETTO:-0500
TZNAME:EST
DTSTART:20251102T060000
END:STANDARD
BEGIN:DAYLIGHT
TZOFFSETFROM:-0500
TZOFFSETTO:-0400
TZNAME:EDT
DTSTART:20260308T070000
END:DAYLIGHT
BEGIN:STANDARD
TZOFFSETFROM:-0400
TZOFFSETTO:-0500
TZNAME:EST
DTSTART:20261101T060000
END:STANDARD
END:VTIMEZONE
BEGIN:VEVENT
DTSTART;TZID=America/New_York:20251119T120000
DTEND;TZID=America/New_York:20251119T130000
DTSTAMP:20260425T153238
CREATED:20251021T165934Z
LAST-MODIFIED:20251113T200514Z
UID:2400-1763553600-1763557200@gossimmigration.com
SUMMARY:The $100\,000 Question: Survival Strategies for Employers in the 2025 H-1b Landscape
DESCRIPTION:RSVP Here! First Name *Last Name *Email *Submit Your RSVPThank you for your RSVP. It has been sent. See you there!×There was an error trying to send your message. Please try again later.×\nJoin us for a critical conversation on navigating the evolving H-1B visa landscape in 2025. With new policies including a $100\,000 integrity fee on new petitions\, a proposed wage-based lottery system\, and entry restrictions affecting workforce planning\, this session will equip HR leaders\, employers\, and professionals with actionable strategies to manage risk\, optimize filings\, and support international talent. Gain insights on compliance\, the latest government updates\, and long-term workforce planning alternatives in a rapidly changing regulatory climate.
URL:https://gossimmigration.com/event/the-100000-question-survival-strategies-for-employers-in-the-2025-h-1b-landscape
LOCATION:Virtual Event
ORGANIZER;CN="The Law Offices of Goss & Associates%2C LLC":MAILTO:events@gossimmigration.com
END:VEVENT
END:VCALENDAR